BEGIN:VCALENDAR
VERSION:2.0
PRODID:icalendar-ruby
CALSCALE:GREGORIAN
METHOD:PUBLISH
BEGIN:VEVENT
DTSTAMP:20260424T001102Z
UID:5-1061811@border.church
DTSTART:20260829T000000Z
DTEND:20260829T033000Z
CLASS:PUBLIC
CREATED:20260424T091908
DESCRIPTION:Our Saturday morning worship. Check our news for details on whe
 re we will be meeting. Our usual meeting locations are in the park at Jack
  Evans Boat Harbour behind Twin Towns or in the QCWA Hall opposite Twin To
 wns. 
LAST-MODIFIED:20260424T091908
LOCATION:Coolangatta-Tweed
SUMMARY:Weekly Worship
URL;VALUE=URI:https://www.borderchurch.com/events/weekly-worship/2026-08-29
END:VEVENT
END:VCALENDAR
