BEGIN:VCALENDAR
VERSION:2.0
PRODID:icalendar-ruby
CALSCALE:GREGORIAN
METHOD:PUBLISH
BEGIN:VEVENT
DTSTAMP:20260423T203337Z
UID:5-1061086@border.church
DTSTART:20260815T000000Z
DTEND:20260815T033000Z
CLASS:PUBLIC
CREATED:20260424T062521
DESCRIPTION:Our Saturday morning worship. Check our news for details on whe
 re we will be meeting. Our usual meeting locations are in the park at Jack
  Evans Boat Harbour behind Twin Towns or in the QCWA Hall opposite Twin To
 wns. 
LAST-MODIFIED:20260424T062521
LOCATION:Coolangatta-Tweed
SUMMARY:Weekly Worship
URL;VALUE=URI:https://www.borderchurch.com/events/weekly-worship/2026-08-15
END:VEVENT
END:VCALENDAR
