BEGIN:VCALENDAR
VERSION:2.0
PRODID:icalendar-ruby
CALSCALE:GREGORIAN
METHOD:PUBLISH
BEGIN:VEVENT
DTSTAMP:20260425T112050Z
UID:6-1067010@border.church
DTSTART:20250115T040000Z
DTEND:20250115T050000Z
CLASS:PUBLIC
CREATED:20260425T114607
DESCRIPTION:
LAST-MODIFIED:20260425T114607
LOCATION:Banora Point
SUMMARY:Weekly Prayer Meeting
URL;VALUE=URI:https://www.borderchurch.com/events/weekly-prayer-meeting/202
 5-01-15
ATTACH;FILENAME=Prayer-Meeting-Graphic-scaled.jpeg;FMTTYPE=image/jpeg:https
 ://dq5pwpg1q8ru0.cloudfront.net/2022/09/26/16/38/54/bd9b7145-2baa-447c-a1e
 0-5d466673db65/Prayer-Meeting-Graphic-scaled.jpeg
END:VEVENT
END:VCALENDAR
